BEGIN:VCALENDAR
VERSION:2.0
PRODID:-//Pearl - ECPv6.15.20//NONSGML v1.0//EN
CALSCALE:GREGORIAN
METHOD:PUBLISH
X-WR-CALNAME:Pearl
X-ORIGINAL-URL:https://wellfleetpearl.com
X-WR-CALDESC:Events for Pearl
REFRESH-INTERVAL;VALUE=DURATION:PT1H
X-Robots-Tag:noindex
X-PUBLISHED-TTL:PT1H
BEGIN:VTIMEZONE
TZID:America/New_York
BEGIN:DAYLIGHT
TZOFFSETFROM:-0500
TZOFFSETTO:-0400
TZNAME:EDT
DTSTART:20230312T070000
END:DAYLIGHT
BEGIN:STANDARD
TZOFFSETFROM:-0400
TZOFFSETTO:-0500
TZNAME:EST
DTSTART:20231105T060000
END:STANDARD
BEGIN:DAYLIGHT
TZOFFSETFROM:-0500
TZOFFSETTO:-0400
TZNAME:EDT
DTSTART:20240310T070000
END:DAYLIGHT
BEGIN:STANDARD
TZOFFSETFROM:-0400
TZOFFSETTO:-0500
TZNAME:EST
DTSTART:20241103T060000
END:STANDARD
BEGIN:DAYLIGHT
TZOFFSETFROM:-0500
TZOFFSETTO:-0400
TZNAME:EDT
DTSTART:20250309T070000
END:DAYLIGHT
BEGIN:STANDARD
TZOFFSETFROM:-0400
TZOFFSETTO:-0500
TZNAME:EST
DTSTART:20251102T060000
END:STANDARD
END:VTIMEZONE
BEGIN:VEVENT
DTSTART;TZID=America/New_York:20240509T150000
DTEND;TZID=America/New_York:20240509T170000
DTSTAMP:20260422T202623
CREATED:20240216T123128Z
LAST-MODIFIED:20240216T123128Z
UID:10000884-1715266800-1715274000@wellfleetpearl.com
SUMMARY:Grab Brothers Duo
DESCRIPTION:Opening Day with the Grab Brothers!  Welcome back Wellfleet! Kick off the 24′ season with Cape Cods’ favorite brothers. \n“The Grab Brothers play the music that evokes the memories of when music captured your heart and guided you through life…Acoustics\, vocal harmonies\, and multiple instruments make these brothers a favorite on Cape Cod!”
URL:https://wellfleetpearl.com/event/grab-brothers-duo-2/
LOCATION:Wellfleet Pearl\, 250 Commercial Street\, Wellfleet\, MA\, 02667
ATTACH;FMTTYPE=image/jpeg:https://wellfleetpearl.com/wp-content/uploads/2023/02/Grab-Brothers-Blk-wht-e1677110440643.jpeg
END:VEVENT
END:VCALENDAR